BEGIN:VCALENDAR
VERSION:2.0
PRODID:-//Biodanza voor iedereen | Dansen met Vera in Zaandam en omgeving - ECPv6.15.20//NONSGML v1.0//EN
CALSCALE:GREGORIAN
METHOD:PUBLISH
X-WR-CALNAME:Biodanza voor iedereen | Dansen met Vera in Zaandam en omgeving
X-ORIGINAL-URL:https://www.biodanzavooriedereen.nl
X-WR-CALDESC:Evenementen voor Biodanza voor iedereen | Dansen met Vera in Zaandam en omgeving
REFRESH-INTERVAL;VALUE=DURATION:PT1H
X-Robots-Tag:noindex
X-PUBLISHED-TTL:PT1H
BEGIN:VTIMEZONE
TZID:Europe/Amsterdam
BEGIN:DAYLIGHT
TZOFFSETFROM:+0100
TZOFFSETTO:+0200
TZNAME:CEST
DTSTART:20230326T010000
END:DAYLIGHT
BEGIN:STANDARD
TZOFFSETFROM:+0200
TZOFFSETTO:+0100
TZNAME:CET
DTSTART:20231029T010000
END:STANDARD
BEGIN:DAYLIGHT
TZOFFSETFROM:+0100
TZOFFSETTO:+0200
TZNAME:CEST
DTSTART:20240331T010000
END:DAYLIGHT
BEGIN:STANDARD
TZOFFSETFROM:+0200
TZOFFSETTO:+0100
TZNAME:CET
DTSTART:20241027T010000
END:STANDARD
BEGIN:DAYLIGHT
TZOFFSETFROM:+0100
TZOFFSETTO:+0200
TZNAME:CEST
DTSTART:20250330T010000
END:DAYLIGHT
BEGIN:STANDARD
TZOFFSETFROM:+0200
TZOFFSETTO:+0100
TZNAME:CET
DTSTART:20251026T010000
END:STANDARD
END:VTIMEZONE
BEGIN:VEVENT
DTSTART;TZID=Europe/Amsterdam:20240828T200000
DTEND;TZID=Europe/Amsterdam:20240828T220000
DTSTAMP:20260425T155548
CREATED:20240711T123113Z
LAST-MODIFIED:20240711T153105Z
UID:3278-1724875200-1724882400@www.biodanzavooriedereen.nl
SUMMARY:Zomerdans 28 augustus
DESCRIPTION:Vanaf 24 juli wekelijks zomerdans op de nieuwe locatie* van Friday Night Feeling Good. Elke week op woensdagavond van 20-22 uur 2 verschillende docenten uit Noord Holland. bijdrage: 20 euro\, graag gepast betalen aan de zaal. Opgeven van te voren is niet nodig. \nVanavond verzorgd door Vera en Minco!
URL:https://www.biodanzavooriedereen.nl/event/zomerdans-28-augustus/
LOCATION:Buurtkamer Kadoelen Nathan F. Israelw eg 3A\, Amsterdam\, Kadoelen Nathan F. Israelw eg 3A\, Amsterdam
CATEGORIES:zomerdans
ATTACH;FMTTYPE=image/jpeg:https://www.biodanzavooriedereen.nl/wp-content/uploads/zomer24-3.jpg
END:VEVENT
END:VCALENDAR