BEGIN:VCALENDAR
VERSION:2.0
PRODID:-//Biodanza voor iedereen | Dansen met Vera in Zaandam en omgeving - ECPv6.15.20//NONSGML v1.0//EN
CALSCALE:GREGORIAN
METHOD:PUBLISH
X-WR-CALNAME:Biodanza voor iedereen | Dansen met Vera in Zaandam en omgeving
X-ORIGINAL-URL:https://www.biodanzavooriedereen.nl
X-WR-CALDESC:Evenementen voor Biodanza voor iedereen | Dansen met Vera in Zaandam en omgeving
REFRESH-INTERVAL;VALUE=DURATION:PT1H
X-Robots-Tag:noindex
X-PUBLISHED-TTL:PT1H
BEGIN:VTIMEZONE
TZID:Europe/Amsterdam
BEGIN:DAYLIGHT
TZOFFSETFROM:+0100
TZOFFSETTO:+0200
TZNAME:CEST
DTSTART:20220327T010000
END:DAYLIGHT
BEGIN:STANDARD
TZOFFSETFROM:+0200
TZOFFSETTO:+0100
TZNAME:CET
DTSTART:20221030T010000
END:STANDARD
BEGIN:DAYLIGHT
TZOFFSETFROM:+0100
TZOFFSETTO:+0200
TZNAME:CEST
DTSTART:20230326T010000
END:DAYLIGHT
BEGIN:STANDARD
TZOFFSETFROM:+0200
TZOFFSETTO:+0100
TZNAME:CET
DTSTART:20231029T010000
END:STANDARD
BEGIN:DAYLIGHT
TZOFFSETFROM:+0100
TZOFFSETTO:+0200
TZNAME:CEST
DTSTART:20240331T010000
END:DAYLIGHT
BEGIN:STANDARD
TZOFFSETFROM:+0200
TZOFFSETTO:+0100
TZNAME:CET
DTSTART:20241027T010000
END:STANDARD
END:VTIMEZONE
BEGIN:VEVENT
DTSTART;TZID=Europe/Amsterdam:20231103T200000
DTEND;TZID=Europe/Amsterdam:20231103T223000
DTSTAMP:20260424T182514
CREATED:20230802T144118Z
LAST-MODIFIED:20231022T101642Z
UID:1890-1699041600-1699050600@www.biodanzavooriedereen.nl
SUMMARY:Friday Night Feeling Good- november
DESCRIPTION:Deze vrijdag  verzorgen Vera en Nathalia een Feel Good Biodanza avond. Het thema van deze biodanza-avond is “laat je bewegen door de wind“. \nFeeling Good betekent voor ons warm en prettig\, genieten\, laagdrempelig en toch fijnzinnig en betekenisvol. Friday Night Feeling Good geeft je de kans om te dansen met verschillende docenten en deelnemers. Iedere Friday Night Feeling Good krijgt daardoor een eigen kleur\, met altijd een Good Feeling. Kortom: een heerlijke dansavond voor iedereen! \nNa de Vivencia is er gelegenheid om samen thee te drinken en te snoepen van mooi opgemaakte fruitschalen. \n  \n \nOm 19.30 gaan de deuren op en\, om 20.00 begint de avond en om 23.00 uur sluiten we gezamenlijk af met de mensen die er nog zijn. Locatie: \nBuurtkamer Kadoelen\nNathan F. Israelweg 3A\nAmsterdam Noord\nDe kosten zijn 20 euro enals je bij Vera of Minco lesse volgt krijg je korting. Ga naar de webiste van FridayNightFeelingGood om je in te schrijven.
URL:https://www.biodanzavooriedereen.nl/event/friday-night-feeling-good-november/
LOCATION:Buurtkamer Kadoelen Nathan F. Israelw eg 3A\, Amsterdam\, Kadoelen Nathan F. Israelw eg 3A\, Amsterdam
CATEGORIES:fnfg,maand-evenement
ATTACH;FMTTYPE=image/jpeg:https://www.biodanzavooriedereen.nl/wp-content/uploads/biodanza-fnfg2.jpg
ORGANIZER;CN="Vera Reijns":MAILTO:vera.reijns@biodanza.nl
END:VEVENT
END:VCALENDAR