BEGIN:VCALENDAR
VERSION:2.0
PRODID:-//Biodanza voor iedereen | Dansen met Vera in Zaandam en omgeving - ECPv6.15.20//NONSGML v1.0//EN
CALSCALE:GREGORIAN
METHOD:PUBLISH
X-ORIGINAL-URL:https://www.biodanzavooriedereen.nl
X-WR-CALDESC:Evenementen voor Biodanza voor iedereen | Dansen met Vera in Zaandam en omgeving
REFRESH-INTERVAL;VALUE=DURATION:PT1H
X-Robots-Tag:noindex
X-PUBLISHED-TTL:PT1H
BEGIN:VTIMEZONE
TZID:Europe/Amsterdam
BEGIN:DAYLIGHT
TZOFFSETFROM:+0100
TZOFFSETTO:+0200
TZNAME:CEST
DTSTART:20230326T010000
END:DAYLIGHT
BEGIN:STANDARD
TZOFFSETFROM:+0200
TZOFFSETTO:+0100
TZNAME:CET
DTSTART:20231029T010000
END:STANDARD
BEGIN:DAYLIGHT
TZOFFSETFROM:+0100
TZOFFSETTO:+0200
TZNAME:CEST
DTSTART:20240331T010000
END:DAYLIGHT
BEGIN:STANDARD
TZOFFSETFROM:+0200
TZOFFSETTO:+0100
TZNAME:CET
DTSTART:20241027T010000
END:STANDARD
BEGIN:DAYLIGHT
TZOFFSETFROM:+0100
TZOFFSETTO:+0200
TZNAME:CEST
DTSTART:20250330T010000
END:DAYLIGHT
BEGIN:STANDARD
TZOFFSETFROM:+0200
TZOFFSETTO:+0100
TZNAME:CET
DTSTART:20251026T010000
END:STANDARD
END:VTIMEZONE
BEGIN:VEVENT
DTSTART;TZID=Europe/Amsterdam:20240405T200000
DTEND;TZID=Europe/Amsterdam:20240405T230000
DTSTAMP:20260424T114355
CREATED:20240117T150714Z
LAST-MODIFIED:20240401T104159Z
UID:2794-1712347200-1712358000@www.biodanzavooriedereen.nl
SUMMARY:Friday Night Feeling Good - april 2024
DESCRIPTION:Iedere eerste vrijdag van de maand verzorgen Vera en Minco  een Feel Good Biodanza avond. Ook in 2024! Deze avond is met Vera en Leonoor! \nDeze keer geven Leonoor Pronk en ik samen de vivencia en als extraatje organiseren we een kledingruil. Een nieuw zomerseizoen met een voor jou nieuwe outfit\, hoe leuk is dat?\nAls je biodanza-kleding hebt waar je op uitgekeken bent of niet meer past kun je het meenemen en voorafgaand aan de vivencia ophangen of neerleggen. Na de vivencia kan iedereen kijken of er iets van zijn of haar gading bij ligt. Er komt geen geld aan te pas\, je geeft\, ontvangt of ruilt.\nFeeling Good betekent voor ons warm en prettig\, genieten\, laagdrempelig en toch fijnzinnig en betekenisvol. Friday Night Feeling Good geeft je de kans om te dansen met verschillende docenten en deelnemers. Iedere Friday Night Feeling Good krijgt daardoor een eigen kleur\, met altijd een Good Feeling. Kortom: een heerlijke dansavond voor iedereen! \n \nNa de Vivencia is er gelegenheid om samen thee te drinken en te snoepen van mooi opgemaakte fruitschalen. \nOm 19.30 gaan de deuren open\, om 20.00 begint de avond en om 23.00 uur sluiten we gezamenlijk af met de mensen die er nog zijn. Locatie :\n \nde Oostzijde 355 in Zaandam. \n  \nDe kosten zijn 20 euro enals je bij Vera of Minco lesse volgt krijg je korting. Ga naar de webiste van FridayNightFeelingGood om je in te schrijven.
URL:https://www.biodanzavooriedereen.nl/event/friday-night-feeling-good-april-2024/
LOCATION:Zaandam\, Oostzijde 355\, Zaandam\, 1508 EP
CATEGORIES:fnfg,maand-evenement
ATTACH;FMTTYPE=image/jpeg:https://www.biodanzavooriedereen.nl/wp-content/uploads/biodanza-fnfg2.jpg
ORGANIZER;CN="Vera Reijns":MAILTO:vera.reijns@biodanza.nl
END:VEVENT
END:VCALENDAR