BEGIN:VCALENDAR
VERSION:2.0
PRODID:-//Biodanza voor iedereen | Dansen met Vera in Zaandam en omgeving - ECPv6.15.20//NONSGML v1.0//EN
CALSCALE:GREGORIAN
METHOD:PUBLISH
X-WR-CALNAME:Biodanza voor iedereen | Dansen met Vera in Zaandam en omgeving
X-ORIGINAL-URL:https://www.biodanzavooriedereen.nl
X-WR-CALDESC:Evenementen voor Biodanza voor iedereen | Dansen met Vera in Zaandam en omgeving
REFRESH-INTERVAL;VALUE=DURATION:PT1H
X-Robots-Tag:noindex
X-PUBLISHED-TTL:PT1H
BEGIN:VTIMEZONE
TZID:Europe/Amsterdam
BEGIN:DAYLIGHT
TZOFFSETFROM:+0100
TZOFFSETTO:+0200
TZNAME:CEST
DTSTART:20230326T010000
END:DAYLIGHT
BEGIN:STANDARD
TZOFFSETFROM:+0200
TZOFFSETTO:+0100
TZNAME:CET
DTSTART:20231029T010000
END:STANDARD
BEGIN:DAYLIGHT
TZOFFSETFROM:+0100
TZOFFSETTO:+0200
TZNAME:CEST
DTSTART:20240331T010000
END:DAYLIGHT
BEGIN:STANDARD
TZOFFSETFROM:+0200
TZOFFSETTO:+0100
TZNAME:CET
DTSTART:20241027T010000
END:STANDARD
BEGIN:DAYLIGHT
TZOFFSETFROM:+0100
TZOFFSETTO:+0200
TZNAME:CEST
DTSTART:20250330T010000
END:DAYLIGHT
BEGIN:STANDARD
TZOFFSETFROM:+0200
TZOFFSETTO:+0100
TZNAME:CET
DTSTART:20251026T010000
END:STANDARD
END:VTIMEZONE
BEGIN:VEVENT
DTSTART;VALUE=DATE:20240722
DTEND;VALUE=DATE:20240728
DTSTAMP:20260422T072048
CREATED:20240429T083257Z
LAST-MODIFIED:20240711T115511Z
UID:3082-1721606400-1722124799@www.biodanzavooriedereen.nl
SUMMARY:Biodanza - return to nature 22-27 juli
DESCRIPTION:Retraite en verdieping\nDans- en kampeer 6-daagse in de natuur\nVerlang je naar verbinding en verdieping met jouw natuurlijke vrouw-zijn. Samen met andere vrouwen te dansen\, te delen en op te laden. Het leven te eren en te vieren? Wij nemen je graag mee naar een magische plek in Noord-Frankrijk buiten in de natuur. Lees de hele beschrijving. \n 
URL:https://www.biodanzavooriedereen.nl/event/biodanza-return-to-nature/
LOCATION:Milonga\, Hameaux du Coq Banni 17\, Jeantes L'Aisne\, 02140\, Frankrijk
CATEGORIES:dagtraining,maand-evenement
ATTACH;FMTTYPE=image/jpeg:https://www.biodanzavooriedereen.nl/wp-content/uploads/natuurinjou.jpg
END:VEVENT
END:VCALENDAR