BEGIN:VCALENDAR
VERSION:2.0
PRODID:-//Biodanza voor iedereen | Dansen met Vera in Zaandam en omgeving - ECPv6.15.20//NONSGML v1.0//EN
CALSCALE:GREGORIAN
METHOD:PUBLISH
X-ORIGINAL-URL:https://www.biodanzavooriedereen.nl
X-WR-CALDESC:Evenementen voor Biodanza voor iedereen | Dansen met Vera in Zaandam en omgeving
REFRESH-INTERVAL;VALUE=DURATION:PT1H
X-Robots-Tag:noindex
X-PUBLISHED-TTL:PT1H
BEGIN:VTIMEZONE
TZID:Europe/Amsterdam
BEGIN:DAYLIGHT
TZOFFSETFROM:+0100
TZOFFSETTO:+0200
TZNAME:CEST
DTSTART:20230326T010000
END:DAYLIGHT
BEGIN:STANDARD
TZOFFSETFROM:+0200
TZOFFSETTO:+0100
TZNAME:CET
DTSTART:20231029T010000
END:STANDARD
BEGIN:DAYLIGHT
TZOFFSETFROM:+0100
TZOFFSETTO:+0200
TZNAME:CEST
DTSTART:20240331T010000
END:DAYLIGHT
BEGIN:STANDARD
TZOFFSETFROM:+0200
TZOFFSETTO:+0100
TZNAME:CET
DTSTART:20241027T010000
END:STANDARD
BEGIN:DAYLIGHT
TZOFFSETFROM:+0100
TZOFFSETTO:+0200
TZNAME:CEST
DTSTART:20250330T010000
END:DAYLIGHT
BEGIN:STANDARD
TZOFFSETFROM:+0200
TZOFFSETTO:+0100
TZNAME:CET
DTSTART:20251026T010000
END:STANDARD
END:VTIMEZONE
BEGIN:VEVENT
DTSTART;TZID=Europe/Amsterdam:20240807T200000
DTEND;TZID=Europe/Amsterdam:20240807T220000
DTSTAMP:20260425T155028
CREATED:20240711T122716Z
LAST-MODIFIED:20240711T153208Z
UID:3272-1723060800-1723068000@www.biodanzavooriedereen.nl
SUMMARY:Zomerdans 7 augustus
DESCRIPTION:Vanaf 24 juli wekelijks zomerdans op de nieuwe locatie* van Friday Night Feeling Good. Elke week op woensdagavond van 20-22 uur 2 verschillende docenten uit Noord Holland. bijdrage: 20 euro\, graag gepast betalen aan de zaal. Opgeven van te voren is niet nodig. \nVanavond verzorgd door Marleen en Marga
URL:https://www.biodanzavooriedereen.nl/event/zomerdans-7-augustus/
LOCATION:Buurtkamer Kadoelen Nathan F. Israelw eg 3A\, Amsterdam\, Kadoelen Nathan F. Israelw eg 3A\, Amsterdam
CATEGORIES:zomerdans
ATTACH;FMTTYPE=image/jpeg:https://www.biodanzavooriedereen.nl/wp-content/uploads/zomer24-3.jpg
END:VEVENT
BEGIN:VEVENT
DTSTART;TZID=Europe/Amsterdam:20240814T200000
DTEND;TZID=Europe/Amsterdam:20240814T220000
DTSTAMP:20260425T155028
CREATED:20240711T122830Z
LAST-MODIFIED:20240711T153141Z
UID:3274-1723665600-1723672800@www.biodanzavooriedereen.nl
SUMMARY:Zomerdans 14 augustus
DESCRIPTION:Vanaf 24 juli wekelijks zomerdans op de nieuwe locatie* van Friday Night Feeling Good. Elke week op woensdagavond van 20-22 uur 2 verschillende docenten uit Noord Holland. bijdrage: 20 euro\, graag gepast betalen aan de zaal. Opgeven van te voren is niet nodig. \nVanavond verzorgd door Marlie Wetemans en Doreen Das
URL:https://www.biodanzavooriedereen.nl/event/zomerdans-14-augustus/
LOCATION:Buurtkamer Kadoelen Nathan F. Israelw eg 3A\, Amsterdam\, Kadoelen Nathan F. Israelw eg 3A\, Amsterdam
CATEGORIES:zomerdans
ATTACH;FMTTYPE=image/jpeg:https://www.biodanzavooriedereen.nl/wp-content/uploads/zomer24-3.jpg
END:VEVENT
BEGIN:VEVENT
DTSTART;TZID=Europe/Amsterdam:20240821T200000
DTEND;TZID=Europe/Amsterdam:20240821T220000
DTSTAMP:20260425T155028
CREATED:20240711T122955Z
LAST-MODIFIED:20240711T153037Z
UID:3276-1724270400-1724277600@www.biodanzavooriedereen.nl
SUMMARY:Zomerdans 21 augustus
DESCRIPTION:Vanaf 24 juli wekelijks zomerdans op de nieuwe locatie* van Friday Night Feeling Good. Elke week op woensdagavond van 20-22 uur 2 verschillende docenten uit Noord Holland. bijdrage: 20 euro\, graag gepast betalen aan de zaal. Opgeven van te voren is niet nodig. \nVanavond verzorgd door Barbara en Petra
URL:https://www.biodanzavooriedereen.nl/event/zomerdans-21-augustus/
LOCATION:Buurtkamer Kadoelen Nathan F. Israelw eg 3A\, Amsterdam\, Kadoelen Nathan F. Israelw eg 3A\, Amsterdam
CATEGORIES:zomerdans
ATTACH;FMTTYPE=image/jpeg:https://www.biodanzavooriedereen.nl/wp-content/uploads/zomer24-3.jpg
END:VEVENT
BEGIN:VEVENT
DTSTART;TZID=Europe/Amsterdam:20240827T193000
DTEND;TZID=Europe/Amsterdam:20240827T211500
DTSTAMP:20260425T155028
CREATED:20240624T070132Z
LAST-MODIFIED:20240702T082920Z
UID:3138-1724787000-1724793300@www.biodanzavooriedereen.nl
SUMMARY:Biodanza open les 27 augustus
DESCRIPTION:Open les op dinsdagavond van 19.30 tot ca 21.15 uur. Gratis. \nDe les is open voor ervaren en beginnende dansers. Na afloop is er thee voor wie wil. \nPractisch: \n\n\n\n\n\nWe dansen in kleding waarin je je lekker kunt bewegen. In de winter zijn laagjes handig. We dansen het liefste op blote voeten\, maar schoentjes met zachte zooltjes kan ook.\nVoor en/of na de les is er gelegenheid om koffie/thee te drinken.\n\n\n\n\n\nBiodanza is geschikt voor iedereen: zowel jong en oud\, man en vrouw\, lenig of stram. Je kunt ook prima genieten van Biodanza als je beperkingen hebt. Het gaat namelijk niet om goed of fout\, mooi of lelijk\, het gaat erom te genieten van de muziek en het bewegen\, jouw dans is altijd uniek en altijd goed. In die ontspanning kan je uit je hoofd\, in je lijf het transformerende proces toelaten. Danservaring is niet van belang. \n 
URL:https://www.biodanzavooriedereen.nl/event/biodanza-open-les-27-8/
LOCATION:Zaans Toneelhuis\, Cornelis van Uitgeeststraat 2\, Zaandam\, 1508 EH
CATEGORIES:weekles
ATTACH;FMTTYPE=image/jpeg:https://www.biodanzavooriedereen.nl/wp-content/uploads/biodanza-avondles2.jpg
ORGANIZER;CN="Vera Reijns":MAILTO:vera.reijns@biodanza.nl
END:VEVENT
BEGIN:VEVENT
DTSTART;TZID=Europe/Amsterdam:20240828T200000
DTEND;TZID=Europe/Amsterdam:20240828T220000
DTSTAMP:20260425T155028
CREATED:20240711T123113Z
LAST-MODIFIED:20240711T153105Z
UID:3278-1724875200-1724882400@www.biodanzavooriedereen.nl
SUMMARY:Zomerdans 28 augustus
DESCRIPTION:Vanaf 24 juli wekelijks zomerdans op de nieuwe locatie* van Friday Night Feeling Good. Elke week op woensdagavond van 20-22 uur 2 verschillende docenten uit Noord Holland. bijdrage: 20 euro\, graag gepast betalen aan de zaal. Opgeven van te voren is niet nodig. \nVanavond verzorgd door Vera en Minco!
URL:https://www.biodanzavooriedereen.nl/event/zomerdans-28-augustus/
LOCATION:Buurtkamer Kadoelen Nathan F. Israelw eg 3A\, Amsterdam\, Kadoelen Nathan F. Israelw eg 3A\, Amsterdam
CATEGORIES:zomerdans
ATTACH;FMTTYPE=image/jpeg:https://www.biodanzavooriedereen.nl/wp-content/uploads/zomer24-3.jpg
END:VEVENT
END:VCALENDAR