BEGIN:VCALENDAR
VERSION:2.0
PRODID:-//Biodanza voor iedereen | Dansen met Vera in Zaandam en omgeving - ECPv6.15.20//NONSGML v1.0//EN
CALSCALE:GREGORIAN
METHOD:PUBLISH
X-WR-CALNAME:Biodanza voor iedereen | Dansen met Vera in Zaandam en omgeving
X-ORIGINAL-URL:https://www.biodanzavooriedereen.nl
X-WR-CALDESC:Evenementen voor Biodanza voor iedereen | Dansen met Vera in Zaandam en omgeving
REFRESH-INTERVAL;VALUE=DURATION:PT1H
X-Robots-Tag:noindex
X-PUBLISHED-TTL:PT1H
BEGIN:VTIMEZONE
TZID:Europe/Amsterdam
BEGIN:DAYLIGHT
TZOFFSETFROM:+0100
TZOFFSETTO:+0200
TZNAME:CEST
DTSTART:20240331T010000
END:DAYLIGHT
BEGIN:STANDARD
TZOFFSETFROM:+0200
TZOFFSETTO:+0100
TZNAME:CET
DTSTART:20241027T010000
END:STANDARD
BEGIN:DAYLIGHT
TZOFFSETFROM:+0100
TZOFFSETTO:+0200
TZNAME:CEST
DTSTART:20250330T010000
END:DAYLIGHT
BEGIN:STANDARD
TZOFFSETFROM:+0200
TZOFFSETTO:+0100
TZNAME:CET
DTSTART:20251026T010000
END:STANDARD
BEGIN:DAYLIGHT
TZOFFSETFROM:+0100
TZOFFSETTO:+0200
TZNAME:CEST
DTSTART:20260329T010000
END:DAYLIGHT
BEGIN:STANDARD
TZOFFSETFROM:+0200
TZOFFSETTO:+0100
TZNAME:CET
DTSTART:20261025T010000
END:STANDARD
END:VTIMEZONE
BEGIN:VEVENT
DTSTART;TZID=Europe/Amsterdam:20250603T193000
DTEND;TZID=Europe/Amsterdam:20250603T211500
DTSTAMP:20260423T145252
CREATED:20241213T151751Z
LAST-MODIFIED:20250107T160257Z
UID:3370-1748979000-1748985300@www.biodanzavooriedereen.nl
SUMMARY:Biodanza avondles 3 juni 2025
DESCRIPTION:Wekelijkse les op dinsdagavond van 19.30 tot ca 21.15 uur. \nDe les is open voor ervaren en beginnende dansers. Na afloop is er thee voor wie wil. \nPractisch: \n\nWe dansen in kleding waarin je je lekker kunt bewegen. In de winter zijn laagjes handig. We dansen het liefste op blote voeten\, maar schoentjes met zachte zooltjes kan ook.\nVoor en/of na de les is er gelegenheid om koffie/thee te drinken.\n\nBiodanza is geschikt voor iedereen: zowel jong en oud\, man en vrouw\, lenig of stram. Je kunt ook prima genieten van Biodanza als je beperkingen hebt. Het gaat namelijk niet om goed of fout\, mooi of lelijk\, het gaat erom te genieten van de muziek en het bewegen\, jouw dans is altijd uniek en altijd goed. In die ontspanning kan je uit je hoofd\, in je lijf het transformerende proces toelaten. Danservaring is niet van belang. \n\n3 Proeflessen: 33 euro\nStrippenkaart\, 10x in 13 lesweken op te maken: 150 euro\nlosse les: 17 euro\n(mocht de bijdrage voor jou niet lukken\, neem danmai contact met me op\, we komen er samen uit).
URL:https://www.biodanzavooriedereen.nl/event/biodanza-avondles-3-juni-2025/
LOCATION:Zaans Toneelhuis\, Cornelis van Uitgeeststraat 2\, Zaandam\, 1508 EH
CATEGORIES:weekles
ATTACH;FMTTYPE=image/jpeg:https://www.biodanzavooriedereen.nl/wp-content/uploads/lessen2024-2025.jpg
ORGANIZER;CN="Vera Reijns":MAILTO:vera.reijns@biodanza.nl
END:VEVENT
BEGIN:VEVENT
DTSTART;TZID=Europe/Amsterdam:20250606T200000
DTEND;TZID=Europe/Amsterdam:20250606T230000
DTSTAMP:20260423T145252
CREATED:20241213T152538Z
LAST-MODIFIED:20250330T154348Z
UID:3384-1749240000-1749250800@www.biodanzavooriedereen.nl
SUMMARY:Friday Night Feeling Good - juni 2025
DESCRIPTION:Iedere eerste vrijdag van de maand verzorgen Vera Reijns en Minco Ruiter een Feel Good Biodanza avond. Ook in 2025! \nFeeling Good betekent voor ons warm en prettig\, genieten\, laagdrempelig en toch fijnzinnig en betekenisvol. Friday Night Feeling Good geeft je de kans om te dansen met verschillende docenten en deelnemers. Iedere Friday Night Feeling Good krijgt daardoor een eigen kleur\, met altijd een Good Feeling. Kortom: een heerlijke dansavond voor iedereen! \nNa de Vivencia is er gelegenheid om samen thee te drinken en te snoepen van mooi opgemaakte fruitschalen. \nOm 19.30 gaan de deuren open\, om 20.00 begint de avond en om 23.00 uur sluiten we gezamenlijk af met de mensen die er nog zijn. \nLocatie :\n \n Buurtkamer Kadoelen\, Nathan F Israelweg 3 Amsterdam Noord.  \n  \nDe kosten zijn 20 euro. Als je bij Vera of Minco of de gastdocent lessen volgt krijg je 2 euro korting. Heb je een krappe beurs\, dan kun je vragen om de speciale rprijs van 10 euro. Ga naar de webiste van FridayNightFeelingGood om je in te schrijven of betaal cash aan de deur. \nGekochte kaartjes zijn overdraagbaar aan iemand anders of naar de eerstvolgende Friday Night maar niet restitueerbaar. 
URL:https://www.biodanzavooriedereen.nl/event/friday-night-feeling-good-juni-2025/
LOCATION:Buurtkamer Kadoelen Nathan F. Israelw eg 3A\, Amsterdam\, Kadoelen Nathan F. Israelw eg 3A\, Amsterdam
CATEGORIES:fnfg,maand-evenement
ATTACH;FMTTYPE=image/jpeg:https://www.biodanzavooriedereen.nl/wp-content/uploads/biodanza-fnfg2.jpg
ORGANIZER;CN="Vera Reijns":MAILTO:vera.reijns@biodanza.nl
END:VEVENT
BEGIN:VEVENT
DTSTART;TZID=Europe/Amsterdam:20250610T193000
DTEND;TZID=Europe/Amsterdam:20250610T211500
DTSTAMP:20260423T145252
CREATED:20241213T151829Z
LAST-MODIFIED:20250107T160330Z
UID:3372-1749583800-1749590100@www.biodanzavooriedereen.nl
SUMMARY:Biodanza avondles 10 juni 2025
DESCRIPTION:Wekelijkse les op dinsdagavond van 19.30 tot ca 21.15 uur. \nDe les is open voor ervaren en beginnende dansers. Na afloop is er thee voor wie wil. \nPractisch: \n\nWe dansen in kleding waarin je je lekker kunt bewegen. In de winter zijn laagjes handig. We dansen het liefste op blote voeten\, maar schoentjes met zachte zooltjes kan ook.\nVoor en/of na de les is er gelegenheid om koffie/thee te drinken.\n\nBiodanza is geschikt voor iedereen: zowel jong en oud\, man en vrouw\, lenig of stram. Je kunt ook prima genieten van Biodanza als je beperkingen hebt. Het gaat namelijk niet om goed of fout\, mooi of lelijk\, het gaat erom te genieten van de muziek en het bewegen\, jouw dans is altijd uniek en altijd goed. In die ontspanning kan je uit je hoofd\, in je lijf het transformerende proces toelaten. Danservaring is niet van belang. \n\n3 Proeflessen: 33 euro\nStrippenkaart\, 10x in 13 lesweken op te maken: 150 euro\nlosse les: 17 euro\n(mocht de bijdrage voor jou niet lukken\, neem danmai contact met me op\, we komen er samen uit).
URL:https://www.biodanzavooriedereen.nl/event/biodanza-avondles-10-juni-2025/
LOCATION:Zaans Toneelhuis\, Cornelis van Uitgeeststraat 2\, Zaandam\, 1508 EH
CATEGORIES:weekles
ATTACH;FMTTYPE=image/jpeg:https://www.biodanzavooriedereen.nl/wp-content/uploads/lessen2024-2025.jpg
ORGANIZER;CN="Vera Reijns":MAILTO:vera.reijns@biodanza.nl
END:VEVENT
BEGIN:VEVENT
DTSTART;TZID=Europe/Amsterdam:20250617T193000
DTEND;TZID=Europe/Amsterdam:20250617T211500
DTSTAMP:20260423T145252
CREATED:20241213T151900Z
LAST-MODIFIED:20250107T160401Z
UID:3374-1750188600-1750194900@www.biodanzavooriedereen.nl
SUMMARY:Biodanza avondles 17 juni 2025
DESCRIPTION:Wekelijkse les op dinsdagavond van 19.30 tot ca 21.15 uur. \nDe les is open voor ervaren en beginnende dansers. Na afloop is er thee voor wie wil. \nPractisch: \n\nWe dansen in kleding waarin je je lekker kunt bewegen. In de winter zijn laagjes handig. We dansen het liefste op blote voeten\, maar schoentjes met zachte zooltjes kan ook.\nVoor en/of na de les is er gelegenheid om koffie/thee te drinken.\n\nBiodanza is geschikt voor iedereen: zowel jong en oud\, man en vrouw\, lenig of stram. Je kunt ook prima genieten van Biodanza als je beperkingen hebt. Het gaat namelijk niet om goed of fout\, mooi of lelijk\, het gaat erom te genieten van de muziek en het bewegen\, jouw dans is altijd uniek en altijd goed. In die ontspanning kan je uit je hoofd\, in je lijf het transformerende proces toelaten. Danservaring is niet van belang. \n\n3 Proeflessen: 33 euro\nStrippenkaart\, 10x in 13 lesweken op te maken: 150 euro\nlosse les: 17 euro\n(mocht de bijdrage voor jou niet lukken\, neem danmai contact met me op\, we komen er samen uit).
URL:https://www.biodanzavooriedereen.nl/event/biodanza-avondles-17-juni-2025/
LOCATION:Zaans Toneelhuis\, Cornelis van Uitgeeststraat 2\, Zaandam\, 1508 EH
CATEGORIES:weekles
ATTACH;FMTTYPE=image/jpeg:https://www.biodanzavooriedereen.nl/wp-content/uploads/lessen2024-2025.jpg
ORGANIZER;CN="Vera Reijns":MAILTO:vera.reijns@biodanza.nl
END:VEVENT
BEGIN:VEVENT
DTSTART;TZID=Europe/Amsterdam:20250624T193000
DTEND;TZID=Europe/Amsterdam:20250624T211500
DTSTAMP:20260423T145252
CREATED:20241213T151934Z
LAST-MODIFIED:20250107T160433Z
UID:3376-1750793400-1750799700@www.biodanzavooriedereen.nl
SUMMARY:Biodanza avondles 24 juni 2025
DESCRIPTION:Wekelijkse les op dinsdagavond van 19.30 tot ca 21.15 uur. \nDe les is open voor ervaren en beginnende dansers. Na afloop is er thee voor wie wil. \nPractisch: \n\nWe dansen in kleding waarin je je lekker kunt bewegen. In de winter zijn laagjes handig. We dansen het liefste op blote voeten\, maar schoentjes met zachte zooltjes kan ook.\nVoor en/of na de les is er gelegenheid om koffie/thee te drinken.\n\nBiodanza is geschikt voor iedereen: zowel jong en oud\, man en vrouw\, lenig of stram. Je kunt ook prima genieten van Biodanza als je beperkingen hebt. Het gaat namelijk niet om goed of fout\, mooi of lelijk\, het gaat erom te genieten van de muziek en het bewegen\, jouw dans is altijd uniek en altijd goed. In die ontspanning kan je uit je hoofd\, in je lijf het transformerende proces toelaten. Danservaring is niet van belang. \n\n3 Proeflessen: 33 euro\nStrippenkaart\, 10x in 13 lesweken op te maken: 150 euro\nlosse les: 17 euro\n(mocht de bijdrage voor jou niet lukken\, neem danmai contact met me op\, we komen er samen uit).
URL:https://www.biodanzavooriedereen.nl/event/biodanza-avondles-24-juni-2025/
LOCATION:Zaans Toneelhuis\, Cornelis van Uitgeeststraat 2\, Zaandam\, 1508 EH
CATEGORIES:weekles
ATTACH;FMTTYPE=image/jpeg:https://www.biodanzavooriedereen.nl/wp-content/uploads/lessen2024-2025.jpg
ORGANIZER;CN="Vera Reijns":MAILTO:vera.reijns@biodanza.nl
END:VEVENT
END:VCALENDAR