BEGIN:VCALENDAR
VERSION:2.0
PRODID:-//Biodanza voor iedereen | Dansen met Vera in Zaandam en omgeving - ECPv6.15.20//NONSGML v1.0//EN
CALSCALE:GREGORIAN
METHOD:PUBLISH
X-ORIGINAL-URL:https://www.biodanzavooriedereen.nl
X-WR-CALDESC:Evenementen voor Biodanza voor iedereen | Dansen met Vera in Zaandam en omgeving
REFRESH-INTERVAL;VALUE=DURATION:PT1H
X-Robots-Tag:noindex
X-PUBLISHED-TTL:PT1H
BEGIN:VTIMEZONE
TZID:Europe/Amsterdam
BEGIN:DAYLIGHT
TZOFFSETFROM:+0100
TZOFFSETTO:+0200
TZNAME:CEST
DTSTART:20240331T010000
END:DAYLIGHT
BEGIN:STANDARD
TZOFFSETFROM:+0200
TZOFFSETTO:+0100
TZNAME:CET
DTSTART:20241027T010000
END:STANDARD
BEGIN:DAYLIGHT
TZOFFSETFROM:+0100
TZOFFSETTO:+0200
TZNAME:CEST
DTSTART:20250330T010000
END:DAYLIGHT
BEGIN:STANDARD
TZOFFSETFROM:+0200
TZOFFSETTO:+0100
TZNAME:CET
DTSTART:20251026T010000
END:STANDARD
BEGIN:DAYLIGHT
TZOFFSETFROM:+0100
TZOFFSETTO:+0200
TZNAME:CEST
DTSTART:20260329T010000
END:DAYLIGHT
BEGIN:STANDARD
TZOFFSETFROM:+0200
TZOFFSETTO:+0100
TZNAME:CET
DTSTART:20261025T010000
END:STANDARD
END:VTIMEZONE
BEGIN:VEVENT
DTSTART;TZID=Europe/Amsterdam:20251003T200000
DTEND;TZID=Europe/Amsterdam:20251003T230000
DTSTAMP:20260423T101627
CREATED:20250704T123056Z
LAST-MODIFIED:20250916T124532Z
UID:3506-1759521600-1759532400@www.biodanzavooriedereen.nl
SUMMARY:Friday Night Feeling Good - oktober 2025
DESCRIPTION:Iedere eerste vrijdag van de maand verzorgen Vera Reijns en Minco Ruiter  een Feel Good Biodanza avond. \nDe vivencia’s worden dit jaar door de gastdocent\, samen met Vera of Minco gegeven. De gastdocenten worden dit seizoen echte ‘special guests\, want zij dansen met ons hun eigen specialiteiten! \nEen klein tipje van de sluier zullen we alvast oplichten. Wat dacht je van biodanza met stem en percussie en biodanza en massage? \nDaar krijgen wij nu al zin in! Jij toch ook?! \nWe trappen het seizoen af met in de zorgende armen van Pachamama met Jan Kerkhoven en Vera. We mogen ons koesteren en verbinden met elkaar op deze eerste Friday Night Feeling Good. \nKom je mee op onze reis door onze Feeling Good Specials? \nFeeling Good betekent voor ons warm en prettig\, genieten\, laagdrempelig en toch fijnzinnig en betekenisvol. Friday Night Feeling Good geeft je de kans om te dansen met verschillende docenten en deelnemers. Iedere Friday Night Feeling Good krijgt daardoor een eigen kleur\, met altijd een Good Feeling. Kortom: een heerlijke dansavond voor iedereen! \nNa de Vivencia is er gelegenheid om samen thee te drinken en te snoepen van mooi opgemaakte fruitschalen. \nOm 19.30 gaan de deuren open\, om 20.00 begint de avond en om 23.00 uur sluiten we gezamenlijk af met de mensen die er nog zijn. \nLocatie :\n \n Buurtkamer Kadoelen\, Nathan F Israelweg 3 Amsterdam Noord.  \n  \nDe kosten zijn 20 euro. Als je bij Vera of Minco of de gastdocent lessen volgt krijg je 2 euro korting. Heb je een krappe beurs\, dan kun je vragen om de speciale rprijs van 10 euro. Ga naar de webiste van FridayNightFeelingGood om je in te schrijven of betaal cash aan de deur. \nGekochte kaartjes zijn overdraagbaar aan iemand anders of naar de eerstvolgende Friday Night maar niet restitueerbaar. 
URL:https://www.biodanzavooriedereen.nl/event/friday-night-feeling-good-oktober-2025/
LOCATION:Buurtkamer Kadoelen Nathan F. Israelw eg 3A\, Amsterdam\, Kadoelen Nathan F. Israelw eg 3A\, Amsterdam
CATEGORIES:fnfg,maand-evenement
ATTACH;FMTTYPE=image/jpeg:https://www.biodanzavooriedereen.nl/wp-content/uploads/biodanza-fnfg2.jpg
ORGANIZER;CN="Vera Reijns":MAILTO:vera.reijns@biodanza.nl
END:VEVENT
BEGIN:VEVENT
DTSTART;TZID=Europe/Amsterdam:20251007T193000
DTEND;TZID=Europe/Amsterdam:20251007T211500
DTSTAMP:20260423T101627
CREATED:20250715T142331Z
LAST-MODIFIED:20250916T124800Z
UID:3566-1759865400-1759871700@www.biodanzavooriedereen.nl
SUMMARY:Biodanza avondles 7 oktober 2025
DESCRIPTION:Wekelijkse les op dinsdagavond van 19.30 tot ca 21.15 uur. \nInloop vanaf 19:15 uur. \nDe les is open voor ervaren en beginnende dansers. Na afloop is er thee voor wie wil. \nNieuwe mensen zijn heel erg welkom!Graag even contact opnemen als je wilt komen. \n  \nPractisch: \n\nWe dansen in kleding waarin je je lekker kunt bewegen. In de winter zijn laagjes handig. We dansen het liefste op blote voeten\, maar schoentjes met zachte zooltjes kan ook.\nVoor en/of na de les is er gelegenheid om koffie/thee te drinken.\n\nBiodanza is geschikt voor iedereen: zowel jong en oud\, man en vrouw\, lenig of stram. Je kunt ook prima genieten van Biodanza als je beperkingen hebt. Het gaat namelijk niet om goed of fout\, mooi of lelijk\, het gaat erom te genieten van de muziek en het bewegen\, jouw dans is altijd uniek en altijd goed. In die ontspanning kan je uit je hoofd\, in je lijf het transformerende proces toelaten. Danservaring is niet van belang. \nKosten: \n\n3 Proeflessen: 33 euro\nStrippenkaart\, 10x in 13 lesweken op te maken: 150 euro\nVerlenging van de proeflessen mogelijk met een strippenkaart voor 5 lessen (in 6 lessen te besteden ) voor 75 euro.\nLosse les: 17 euro\n(mocht de bijdrage voor jou niet lukken\, neem dan contact met me op\, we komen er samen uit).
URL:https://www.biodanzavooriedereen.nl/event/biodanza-avondles-7-oktober-2025/
LOCATION:Crescendo Assendelft\, Dorpstraat 535A\, Assendelft\, 1566 BL\, Netherlands
CATEGORIES:weekles
ATTACH;FMTTYPE=image/jpeg:https://www.biodanzavooriedereen.nl/wp-content/uploads/featuredimageles.jpg
ORGANIZER;CN="Vera Reijns":MAILTO:vera.reijns@biodanza.nl
END:VEVENT
BEGIN:VEVENT
DTSTART;TZID=Europe/Amsterdam:20251014T193000
DTEND;TZID=Europe/Amsterdam:20251014T211500
DTSTAMP:20260423T101627
CREATED:20250715T142412Z
LAST-MODIFIED:20250916T124827Z
UID:3568-1760470200-1760476500@www.biodanzavooriedereen.nl
SUMMARY:Biodanza avondles 14 oktober 2025
DESCRIPTION:Wekelijkse les op dinsdagavond van 19.30 tot ca 21.15 uur. \nInloop vanaf 19:15 uur. \nDe les is open voor ervaren en beginnende dansers. Na afloop is er thee voor wie wil. \nNieuwe mensen zijn heel erg welkom!Graag even contact opnemen als je wilt komen. \n  \nPractisch: \n\nWe dansen in kleding waarin je je lekker kunt bewegen. In de winter zijn laagjes handig. We dansen het liefste op blote voeten\, maar schoentjes met zachte zooltjes kan ook.\nVoor en/of na de les is er gelegenheid om koffie/thee te drinken.\n\nBiodanza is geschikt voor iedereen: zowel jong en oud\, man en vrouw\, lenig of stram. Je kunt ook prima genieten van Biodanza als je beperkingen hebt. Het gaat namelijk niet om goed of fout\, mooi of lelijk\, het gaat erom te genieten van de muziek en het bewegen\, jouw dans is altijd uniek en altijd goed. In die ontspanning kan je uit je hoofd\, in je lijf het transformerende proces toelaten. Danservaring is niet van belang. \nKosten: \n\n3 Proeflessen: 33 euro\nStrippenkaart\, 10x in 13 lesweken op te maken: 150 euro\nVerlenging van de proeflessen mogelijk met een strippenkaart voor 5 lessen (in 6 lessen te besteden ) voor 75 euro.\nLosse les: 17 euro\n(mocht de bijdrage voor jou niet lukken\, neem dan contact met me op\, we komen er samen uit).
URL:https://www.biodanzavooriedereen.nl/event/biodanza-avondles-14-oktober-2025/
LOCATION:Crescendo Assendelft\, Dorpstraat 535A\, Assendelft\, 1566 BL\, Netherlands
CATEGORIES:weekles
ATTACH;FMTTYPE=image/jpeg:https://www.biodanzavooriedereen.nl/wp-content/uploads/featuredimageles.jpg
ORGANIZER;CN="Vera Reijns":MAILTO:vera.reijns@biodanza.nl
END:VEVENT
BEGIN:VEVENT
DTSTART;TZID=Europe/Amsterdam:20251021T193000
DTEND;TZID=Europe/Amsterdam:20251021T211500
DTSTAMP:20260423T101627
CREATED:20251011T161355Z
LAST-MODIFIED:20251012T061644Z
UID:3738-1761075000-1761081300@www.biodanzavooriedereen.nl
SUMMARY:Biodanza open avondles 21 oktober 2025
DESCRIPTION:Dit keer een open les dinsdagavond van 19.30 tot ca 21.15 uur. \nInloop vanaf 19:15 uur. Start om 19:30. \nDe les is open voor iedereen. Kom wel op tijd! Na afloop is er thee voor wie wil. \nNieuwe mensen zijn heel erg welkom!Graag even contact opnemen als je wilt komen. \n  \nPractisch: \n\nWe dansen in kleding waarin je je lekker kunt bewegen. In de winter zijn laagjes handig. We dansen het liefste op blote voeten\, maar schoentjes met zachte zooltjes kan ook.\nVoor en/of na de les is er gelegenheid om koffie/thee te drinken.\n\nBiodanza is geschikt voor iedereen: zowel jong en oud\, man en vrouw\, lenig of stram. Je kunt ook prima genieten van Biodanza als je beperkingen hebt. Het gaat namelijk niet om goed of fout\, mooi of lelijk\, het gaat erom te genieten van de muziek en het bewegen\, jouw dans is altijd uniek en altijd goed. In die ontspanning kan je uit je hoofd\, in je lijf het transformerende proces toelaten. Danservaring is niet van belang. \nKosten: \nVanavond is gratis. Vrijwillige bijdrage is fijn! \n\n3 Proeflessen: 33 euro\nStrippenkaart\, 10x in 13 lesweken op te maken: 150 euro\nVerlenging van de proeflessen mogelijk met een strippenkaart voor 5 lessen (in 6 lessen te besteden ) voor 75 euro.\nLosse les: 17 euro\n(mocht de bijdrage voor jou niet lukken\, neem dan contact met me op\, we komen er samen uit).
URL:https://www.biodanzavooriedereen.nl/event/biodanza-open-avondles-21-oktober-2025/
LOCATION:Crescendo Assendelft\, Dorpstraat 535A\, Assendelft\, 1566 BL\, Netherlands
CATEGORIES:weekles
ATTACH;FMTTYPE=image/jpeg:https://www.biodanzavooriedereen.nl/wp-content/uploads/featuredimageles.jpg
ORGANIZER;CN="Vera Reijns":MAILTO:vera.reijns@biodanza.nl
END:VEVENT
BEGIN:VEVENT
DTSTART;TZID=Europe/Amsterdam:20251028T193000
DTEND;TZID=Europe/Amsterdam:20251028T211500
DTSTAMP:20260423T101627
CREATED:20250715T142617Z
LAST-MODIFIED:20250827T133116Z
UID:3572-1761679800-1761686100@www.biodanzavooriedereen.nl
SUMMARY:Biodanza avondles 28 oktober 2025
DESCRIPTION:Wekelijkse les op dinsdagavond van 19.30 tot ca 21.15 uur. \nInloop vanaf 19:15 uur. \nDe les is open voor ervaren en beginnende dansers. Na afloop is er thee voor wie wil. \nNieuwe mensen zijn heel erg welkom!Graag even contact opnemen als je wilt komen. \n  \nPractisch: \n\nWe dansen in kleding waarin je je lekker kunt bewegen. In de winter zijn laagjes handig. We dansen het liefste op blote voeten\, maar schoentjes met zachte zooltjes kan ook.\nVoor en/of na de les is er gelegenheid om koffie/thee te drinken.\n\nBiodanza is geschikt voor iedereen: zowel jong en oud\, man en vrouw\, lenig of stram. Je kunt ook prima genieten van Biodanza als je beperkingen hebt. Het gaat namelijk niet om goed of fout\, mooi of lelijk\, het gaat erom te genieten van de muziek en het bewegen\, jouw dans is altijd uniek en altijd goed. In die ontspanning kan je uit je hoofd\, in je lijf het transformerende proces toelaten. Danservaring is niet van belang. \nKosten: \n\n3 Proeflessen: 33 euro\nStrippenkaart\, 10x in 13 lesweken op te maken: 150 euro\nlosse les: 17 euro\n(mocht de bijdrage voor jou niet lukken\, neem dan contact met me op\, we komen er samen uit).
URL:https://www.biodanzavooriedereen.nl/event/biodanza-avondles-28-oktober-2025/
LOCATION:Crescendo Assendelft\, Dorpstraat 535A\, Assendelft\, 1566 BL\, Netherlands
CATEGORIES:weekles
ATTACH;FMTTYPE=image/jpeg:https://www.biodanzavooriedereen.nl/wp-content/uploads/featuredimageles.jpg
ORGANIZER;CN="Vera Reijns":MAILTO:vera.reijns@biodanza.nl
END:VEVENT
END:VCALENDAR